BEGIN:VCALENDAR
VERSION:2.0
PRODID:-//St. Jude Dream Home Giveaway//EN
CALSCALE:GREGORIAN
BEGIN:VEVENT
UID:Raleigh-dreamhome-20260625@stjude.org
DTSTAMP:20260318T185100Z
DTSTART;TZID=America/New_York:20260625T150000
DTEND;TZID=America/New_York:20260625T160000
SUMMARY:St. Jude Dream Home Giveaway – Raleigh
DESCRIPTION:Tune in to see who the winner of the 2026 St. Jude Dream Home Giveaway will be! Watch on WNCN CBS17.
LOCATION:WNCN CBS17
END:VEVENT
END:VCALENDAR
