BEGIN:VCALENDAR
VERSION:2.0
PRODID:-//ical.marudot.com//iCal Event Maker
CALSCALE:GREGORIAN
BEGIN:VEVENT
DTSTAMP:20260415T151027Z
UID:1776265791916-44359@ical.marudot.com
DTSTART;VALUE=DATE:20270517
DTEND;VALUE=DATE:20270520
SUMMARY:International Conference on Cellular Immunotherapy in Pediatric Oncology (CIPO) 
URL:https://www.stjude.org/cipo
DESCRIPTION:The International Conference on Cellular Immunotherapy in Pediatric Oncology (CIPO) brings together international experts to discuss the latest advancements in pediatric immunotherapy. 
LOCATION:St. Jude Children's Research Hospital\, Memphis\, TN
END:VEVENT
END:VCALENDAR